BEGIN:VCALENDAR
VERSION:2.0
PRODID:-//Saint-Martin d&#039;Arrossa - ECPv4.8.0.1//NONSGML v1.0//EN
CALSCALE:GREGORIAN
METHOD:PUBLISH
X-WR-CALNAME:Saint-Martin d&#039;Arrossa
X-ORIGINAL-URL:https://www.saintmartindarrossa.fr
X-WR-CALDESC:Events for Saint-Martin d&#039;Arrossa
BEGIN:VEVENT
DTSTART;TZID=Europe/Paris:20180811T103000
DTEND;TZID=Europe/Paris:20180811T143000
DTSTAMP:20260425T011539
CREATED:20180706T131702Z
LAST-MODIFIED:20180706T131823Z
UID:2445-1533983400-1533997800@www.saintmartindarrossa.fr
SUMMARY:Euskaraldia : "Ttipi ttapa Satali"
DESCRIPTION: \nPartager :Click to share on Facebook (Opens in new window)Click to share on Twitter (Opens in new window)Click to print (Opens in new window)
URL:https://www.arrosa.eus/evenements/euskaraldia-ttipi-ttapa-satali-2/
END:VEVENT
END:VCALENDAR